Workbook
Name abo: '[1]Data and Kn'!$C$33
Name ae_1: [1]Burnrate!$E$52
Name aexit: [1]Performance!$C$8
Name am_1: [1]Burnrate!$J$52
Name astarf: [1]Pressure!$I$862
Name at: '[1]Data and Kn'!$C$36
Name ci: '[1]Data and Kn'!$C$21
Name cstar: [1]Pressure!$C$17
Name dc: '[1]Data and Kn'!$C$10
Name dio: '[1]Data and Kn'!$C$17
Name do: '[1]Data and Kn'!$C$16
Name dto: '[1]Data and Kn'!$C$37
Name ei: '[1]Data and Kn'!$C$22
Name erate: '[1]Data and Kn'!$C$39
Name etac: [1]Pressure!$C$13
Name etanoz: [1]Performance!$C$4
Name exprat: [1]Performance!$C$5
Name fmax: [1]Performance!$C$14
Name fueltype: '[1]Data and Kn'!$C$14
Name gstar: [1]Pressure!$C$18
Name itot: [1]Performance!$C$15
Name itsum: [1]Performance!$J$911
Name k: [1]Pressure!$C$12
Name k_dx: '[1]Propellant data'!$F$10
Name k_ot: '[1]Propellant data'!$H$10
Name k_so: '[1]Propellant data'!$G$10
Name kndxbn_: [1]Burnrate!$G$8:$K$12
Name knrange: '[1]Data and Kn'!$M$45:$M$95
Name knsobn_: [1]Burnrate!$G$19:$K$23
Name kv: [1]Pressure!$C$19
Name lc: '[1]Data and Kn'!$C$11
Name lgo: '[1]Data and Kn'!$C$24
Name lo: '[1]Data and Kn'!$C$18
Name m: [1]Pressure!$C$10
Name m_dx: '[1]Propellant data'!$F$11
Name m_ot: '[1]Propellant data'!$H$11
Name m_so: '[1]Propellant data'!$G$11
Name me: [1]Performance!$C$9
Name mgrain: '[1]Data and Kn'!$C$29
Name motorclass: #REF!
Name n: '[1]Data and Kn'!$C$19
Name ne_1: [1]Burnrate!$F$52
Name nm_1: [1]Burnrate!$K$52
Name osi: '[1]Data and Kn'!$C$20
Name otherbn_: [1]Burnrate!$B$59:$F$63
Name patm: [1]Pressure!$C$16
Name pbd: [1]Pressure!$X$22
Name pbout: [1]Pressure!$AB$862
Name pfinal: [1]Pressure!$AB$909
Name pmax: [1]Pressure!$AB$22
Name pmaxperc: [1]Pressure!$AA$907
Name rat: [1]Pressure!$C$11
Name rhopdex: '[1]Propellant data'!$F$9
Name rhopgrain: '[1]Data and Kn'!$C$28
Name rhopgraini: '[1]Data and Kn'!$C$26
Name rhopot: '[1]Propellant data'!$H$9
Name rhopsorb: '[1]Propellant data'!$G$9
Name rhorat: '[1]Data and Kn'!$C$27
Name runiv: [1]Pressure!$C$9
Name tbinc: [1]Pressure!$J$23

Sheet Diseño
C1: Diseñador de Motor Solido
C2: Version | D2: 5 - ALPHA | E2: Trabajo Propio, influenciado por Rocket Propulsion Elements & Richard Nakka
C3: Esteban Jiménez Sánchez | E3: Esta herramienta se da tal cual sin ninguna expectativa ni garantia de funcionamiento.
C4: 46268 | E4: Tomese como solamente una referencia.
C6: Clasificación NAR - TRIPOLI | D6: =E85 -> J
C8: Constantes | D8: Símbolo | E8: Valor | F8: Unidades | G8: Formula
A9: Constantes Generales | C9: Presión Atmosférica | D9: Patm | E9: 101325 | F9: Pa
C10: Velocidad del Sonido a Tamb | D10: vs | E10: 343.59 | F10: m/s
C11: Aceleración Gravitacional | D11: g | E11: 9.81 | F11: m/s2
A13: Especificaciones de Tubería | B13: Dimensiones | C13: Diámetro Externo del Tubo | D13: DEXT | E13: =0.0254*2 -> 0.0508 | F13: m | G13: =E13/0.0254 -> 2
C14: Espesor de Pared del Tubo | D14: Esp | E14: =0.00127 -> 0.00127 | F14: m
C15: Radio Interno del Tubo | D15: RINT | E15: =(E13-(2*E14))/2 -> 0.02413 | F15: m | G15: =E15*2 -> 0.04826
B16: Características del Material | C16: Material | E16: Aluminio
C17: Aleación | E17: 6063-T5
C18: Modulo de Elasticidad | D18: E | E18: =69000*10^6 -> 69000000000 | F18: Pa
C19: Esfuerzo de Cedencia (Cortante) | D19: τY | F19: Pa
C20: Esfuerzo de Cedencia (Tensión) | D20: σY | E20: =145*10^6 -> 145000000 | F20: Pa
C21: Esfuerzo Ultimo (Cortante) | D21: τU | E21: =115000000 -> 115000000 | F21: Pa
C22: Esfuerzo Último (Tensión) | D22: σU | E22: =185*10^6 -> 185000000 | F22: Pa
A24: Variables de Diseño | B24: Recamara | C24: Presión | D24: P1 | E24: 500 | F24: psi | G24: =IF($E$125<2,IF($E$125>1,"Valor Cercano al límite","PELIGRO: Explosión"),"Presión Aceptable") -> Presión Aceptable
E25: =E24*6894.757 -> 3447378.5 | F25: Pa | G25: 1 psi = 6894,757 Pa
C26: Temperatura | D26: T1 | E26: 1720 | F26: K
E27: =E26-273.15 -> 1446.85 | F27: °C
B29: Granos | C29: Número | D29: ng | E29: 3
C30: Radio Interno Inicial | D30: ri | E30: 0.0085 | F30: m | G30: =IF($E$107>1,IF($E$107<3,"Valor Apropiado: No hay Quemado Erosivo","Valor Cercano al límite"),"Problema: Quemado Erosivo") -> Valor Apropiado: No hay Quemado Erosivo
C31: Radio Externo | D31: re | E31: =E15-0.001 -> 0.02313 | F31: m
C32: Longitud | D32: Lg | E32: 0.081 | F32: m
C33: Separación entre granos | D33: Sg | E33: 0.002 | F33: m
C34: Desviación Estándar | E34: ='Coport. de Area'!E11*10^4 -> 3.1259
C35: Volumen Unitario | D35: Vg | E35: =PI()*E32*(E31^2-E30^2) -> 0.00011775474 | F35: m3
C36: Masa unitaria | D36: mg | E36: =E44*E35*1000 -> 209.16186 | F36: g
C37: Longitud Total con Combustible | D37: LT | E37: =E32*E29 -> 0.243 | F37: m
C38: Port Área | D38: Ap | E38: =PI()*E30^2 -> 0.00022698007 | F38: m2
C39: Long de sección de combustible | D39: L | E39: =(E33*(E29-1))+(E32*E29) -> 0.247 | F39: m
B41: Datos del Combustible | C41: Const de Tasa de Quemado | D41: a | E41: 0.0665
C42: Exponente de Presión | D42: n | E42: 0.319
C43: Tasa de Quemado | D43: br | E43: =(E41*((E25*0.000145038)^E42))*0.0254 -> 0.012263856 | F43: m/s
C44: Densidad del Combustible | D44: ρP | E44: 1776.25 | F44: kg/m3
B46: Datos de los Gases de Escape | C46: Razón de Calores Específicos (Heat Capacity ratio) | D46: k | E46: 1.044
C47: Constante de los gases | D47: R | E47: 195.71 | F47: J/kg*K
...

Sheet Clasificación de Motor
C3: Clasificación de Motores
C4: Clase | D4: Impulso Total
D5: N*s
C6: A | D6: 1.26 | E6: - | F6: 2.5
C7: B | D7: 2.5 | E7: - | F7: 5
C8: C | D8: 5 | E8: - | F8: 10
C9: D | D9: 10 | E9: - | F9: 20
C10: E | D10: 20 | E10: - | F10: 40
C11: F | D11: 40 | E11: - | F11: 80
C12: G | D12: 80 | E12: - | F12: 160
C13: H | D13: 160 | E13: - | F13: 320
C14: I | D14: 320 | E14: - | F14: 640
C15: J | D15: 640 | E15: - | F15: 1280
C16: K | D16: 1280 | E16: - | F16: 2560
C17: L | D17: 2560 | E17: - | F17: 5120
... C22: Q | D22: 81920 | E22: - | F22: 163840

Sheet Coport. de Area
C3: Constantes | D3: Símbolo | E3: Valor | F3: Unidades
C4: Radio Externo del Grano | D4: Re_G | E4: =Diseño!E31 -> 0.02313 | F4: m
C5: Longitud del Grano | D5: Lg | E5: =Diseño!E32 -> 0.081 | F5: m
C6: Radio Interno Inicial | D6: RI | E6: =Diseño!E30 -> 0.0085 | F6: m
C7: Tasa de Quemado | D7: br | E7: =Diseño!E43 -> 0.012263856 | F7: m/s
C8: Tiempo de Quemado | D8: TQ | E8: =Diseño!E70 -> 1.1929364 | F8: s
C9: Subdivision | E9: =E8/1000 -> 0.0011929364
C10: Diferencia | E10: =I1023*10^15 -> 10.685897
C11: Desviación Estandar | E11: =H1020 -> 0.00031259
C12: Área de Quemado Promedio | D12: Ab | E12: =H1019 -> 0.0080481822 | F12: m2
C15: Tiempo | D15: Radio Instantaneo | E15: Longitud Instantanea | F15: Área Transversal | G15: Área Longitudinal | H15: Área de Quemado | I15: Diferencia
C16: t | D16: Rinst | E16: Linst | F16: Atrans | G16: Along | H16: Ab | I16: ∆Ab
C17: s | D17: m | E17: m | F17: m2 | G17: m2 | H17: m2
B18: 0 | C18: 0 | D18: =$E$6+$E$7*C18 -> 0.0085 | E18: =$E$5-2*$E$7*C18 -> 0.081 | F18: =PI()*($E$4^2-D18^2) -> 0.0014537623 | G18: =IF(F18=0,0,2*PI()*D18*E18) -> 0.0043259731 | H18: =F18*2+G18 -> 0.0072334976 | I18: =H18-$H$1019 -> -0.00081468463
B19: 1 | C19: =IF(C18+$E$9<$E$8,C18+$E$9,0) -> 0.0011929364 | D19: =$E$6+$E$7*C19 -> 0.00851463 | E19: =$E$5-2*$E$7*C19 -> 0.08097074 | F19: =PI()*($E$4^2-D19^2) -> 0.0014529802 | G19: =IF(F19=0,0,2*PI()*D19*E19) -> 0.0043318535 | H19: =F19*2+G19 -> 0.007237814 | I19: =H19-$H$1019 -> -0.00081036829
B20: 2 | C20: =IF(C19+$E$9<$E$8,C19+$E$9,0) -> 0.0023858728 | D20: =$E$6+$E$7*C20 -> 0.00852926 | E20: =$E$5-2*$E$7*C20 -> 0.08094148 | F20: =PI()*($E$4^2-D20^2) -> 0.0014521969 | G20: =IF(F20=0,0,2*PI()*D20*E20) -> 0.0043377285 | H20: =F20*2+G20 -> 0.0072421222 | I20: =H20-$H$1019 -> -0.00080606001
B21: 3 | C21: =IF(C20+$E$9<$E$8,C20+$E$9,0) -> 0.0035788092 | D21: =$E$6+$E$7*C21 -> 0.00854389 | E21: =$E$5-2*$E$7*C21 -> 0.08091222 | F21: =PI()*($E$4^2-D21^2) -> 0.0014514122 | G21: =IF(F21=0,0,2*PI()*D21*E21) -> 0.0043435981 | H21: =F21*2+G21 -> 0.0072464224 | I21: =H21-$H$1019 -> -0.0008017598 | R21: Promedio | S21: =AVERAGE(E19:Q19) -> 0.018636604
B22: 4 | C22: =IF(C21+$E$9<$E$8,C21+$E$9,0) -> 0.0047717456 | D22: =$E$6+$E$7*C22 -> 0.00855852 | E22: =$E$5-2*$E$7*C22 -> 0.08088296 | F22: =PI()*($E$4^2-D22^2) -> 0.0014506261 | G22: =IF(F22=0,0,2*PI()*D22*E22) -> 0.0043494623 | H22: =F22*2+G22 -> 0.0072507146 | I22: =H22-$H$1019 -> -0.00079746766
B23: 5 | C23: =IF(C22+$E$9<$E$8,C22+$E$9,0) -> 0.005964682 | D23: =$E$6+$E$7*C23 -> 0.00857315 | E23: =$E$5-2*$E$7*C23 -> 0.0808537 | F23: =PI()*($E$4^2-D23^2) -> 0.0014498387 | G23: =IF(F23=0,0,2*PI()*D23*E23) -> 0.0043553212 | H23: =F23*2+G23 -> 0.0072549986 | I23: =H23-$H$1019 -> -0.00079318359
B24: 6 | C24: =IF(C23+$E$9<$E$8,C23+$E$9,0) -> 0.0071576184 | D24: =$E$6+$E$7*C24 -> 0.00858778 | E24: =$E$5-2*$E$7*C24 -> 0.08082444 | F24: =PI()*($E$4^2-D24^2) -> 0.00144905 | G24: =IF(F24=0,0,2*PI()*D24*E24) -> 0.0043611747 | H24: =F24*2+G24 -> 0.0072592747 | I24: =H24-$H$1019 -> -0.00078890759
B25: 7 | C25: =IF(C24+$E$9<$E$8,C24+$E$9,0) -> 0.0083505548 | D25: =$E$6+$E$7*C25 -> 0.00860241 | E25: =$E$5-2*$E$7*C25 -> 0.08079518 | F25: =PI()*($E$4^2-D25^2) -> 0.0014482599 | G25: =IF(F25=0,0,2*PI()*D25*E25) -> 0.0043670228 | H25: =F25*2+G25 -> 0.0072635426 | I25: =H25-$H$1019 -> -0.00078463966
B26: 8 | C26: =IF(C25+$E$9<$E$8,C25+$E$9,0) -> 0.0095434912 | D26: =$E$6+$E$7*C26 -> 0.00861704 | E26: =$E$5-2*$E$7*C26 -> 0.08076592 | F26: =PI()*($E$4^2-D26^2) -> 0.0014474685 | G26: =IF(F26=0,0,2*PI()*D26*E26) -> 0.0043728655 | H26: =F26*2+G26 -> 0.0072678024 | I26: =H26-$H$1019 -> -0.00078037979
B27: 9 | C27: =IF(C26+$E$9<$E$8,C26+$E$9,0) -> 0.010736428 | D27: =$E$6+$E$7*C27 -> 0.00863167 | E27: =$E$5-2*$E$7*C27 -> 0.08073666 | F27: =PI()*($E$4^2-D27^2) -> 0.0014466757 | G27: =IF(F27=0,0,2*PI()*D27*E27) -> 0.0043787029 | H27: =F27*2+G27 -> 0.0072720542 | I27: =H27-$H$1019 -> -0.000776128
B28: 10 | C28: =IF(C27+$E$9<$E$8,C27+$E$9,0) -> 0.011929364 | D28: =$E$6+$E$7*C28 -> 0.0086463 | E28: =$E$5-2*$E$7*C28 -> 0.0807074 | F28: =PI()*($E$4^2-D28^2) -> 0.0014458816 | G28: =IF(F28=0,0,2*PI()*D28*E28) -> 0.0043845348 | H28: =F28*2+G28 -> 0.007276298 | I28: =H28-$H$1019 -> -0.00077188427
B29: 11 | C29: =IF(C28+$E$9<$E$8,C28+$E$9,0) -> 0.0131223 | D29: =$E$6+$E$7*C29 -> 0.00866093 | E29: =$E$5-2*$E$7*C29 -> 0.08067814 | F29: =PI()*($E$4^2-D29^2) -> 0.0014450861 | G29: =IF(F29=0,0,2*PI()*D29*E29) -> 0.0043903614 | H29: =F29*2+G29 -> 0.0072805336 | I29: =H29-$H$1019 -> -0.00076764862
B30: 12 | C30: =IF(C29+$E$9<$E$8,C29+$E$9,0) -> 0.014315237 | D30: =$E$6+$E$7*C30 -> 0.00867556 | E30: =$E$5-2*$E$7*C30 -> 0.08064888 | F30: =PI()*($E$4^2-D30^2) -> 0.0014442893 | G30: =IF(F30=0,0,2*PI()*D30*E30) -> 0.0043961826 | H30: =F30*2+G30 -> 0.0072847612 | I30: =H30-$H$1019 -> -0.00076342103
B31: 13 | C31: =IF(C30+$E$9<$E$8,C30+$E$9,0) -> 0.015508173 | D31: =$E$6+$E$7*C31 -> 0.00869019 | E31: =$E$5-2*$E$7*C31 -> 0.08061962 | F31: =PI()*($E$4^2-D31^2) -> 0.0014434911 | G31: =IF(F31=0,0,2*PI()*D31*E31) -> 0.0044019985 | H31: =F31*2+G31 -> 0.0072889807 | I31: =H31-$H$1019 -> -0.00075920151
B32: 14 | C32: =IF(C31+$E$9<$E$8,C31+$E$9,0) -> 0.01670111 | D32: =$E$6+$E$7*C32 -> 0.00870482 | E32: =$E$5-2*$E$7*C32 -> 0.08059036 | F32: =PI()*($E$4^2-D32^2) -> 0.0014426916 | G32: =IF(F32=0,0,2*PI()*D32*E32) -> 0.0044078089 | H32: =F32*2+G32 -> 0.0072931922 | I32: =H32-$H$1019 -> -0.00075499006
B33: 15 | C33: =IF(C32+$E$9<$E$8,C32+$E$9,0) -> 0.017894046 | D33: =$E$6+$E$7*C33 -> 0.00871945 | E33: =$E$5-2*$E$7*C33 -> 0.0805611 | F33: =PI()*($E$4^2-D33^2) -> 0.0014418908 | G33: =IF(F33=0,0,2*PI()*D33*E33) -> 0.004413614 | H33: =F33*2+G33 -> 0.0072973956 | I33: =H33-$H$1019 -> -0.00075078668 | P33: 817473.11
B34: 16 | C34: =IF(C33+$E$9<$E$8,C33+$E$9,0) -> 0.019086982 | D34: =$E$6+$E$7*C34 -> 0.00873408 | E34: =$E$5-2*$E$7*C34 -> 0.08053184 | F34: =PI()*($E$4^2-D34^2) -> 0.0014410886 | G34: =IF(F34=0,0,2*PI()*D34*E34) -> 0.0044194137 | H34: =F34*2+G34 -> 0.0073015909 | I34: =H34-$H$1019 -> -0.00074659137 | M34: 16p
B35: 17 | C35: =IF(C34+$E$9<$E$8,C34+$E$9,0) -> 0.020279919 | D35: =$E$6+$E$7*C35 -> 0.00874871 | E35: =$E$5-2*$E$7*C35 -> 0.08050258 | F35: =PI()*($E$4^2-D35^2) -> 0.0014402851 | G35: =IF(F35=0,0,2*PI()*D35*E35) -> 0.004425208 | H35: =F35*2+G35 -> 0.0073057781 | I35: =H35-$H$1019 -> -0.00074240413 | M35: 817474 | N35: 817473
B36: 18 | C36: =IF(C35+$E$9<$E$8,C35+$E$9,0) -> 0.021472855 | D36: =$E$6+$E$7*C36 -> 0.00876334 | E36: =$E$5-2*$E$7*C36 -> 0.08047332 | F36: =PI()*($E$4^2-D36^2) -> 0.0014394802 | G36: =IF(F36=0,0,2*PI()*D36*E36) -> 0.0044309969 | H36: =F36*2+G36 -> 0.0073099573 | I36: =H36-$H$1019 -> -0.00073822495 | M36: 1109596 | N36: 1109610
B37: 19 | C37: =IF(C36+$E$9<$E$8,C36+$E$9,0) -> 0.022665791 | D37: =$E$6+$E$7*C37 -> 0.00877797 | E37: =$E$5-2*$E$7*C37 -> 0.08044406 | F37: =PI()*($E$4^2-D37^2) -> 0.001438674 | G37: =IF(F37=0,0,2*PI()*D37*E37) -> 0.0044367805 | H37: =F37*2+G37 -> 0.0073141284 | I37: =H37-$H$1019 -> -0.00073405385
B38: 20 | C38: =IF(C37+$E$9<$E$8,C37+$E$9,0) -> 0.023858728 | D38: =$E$6+$E$7*C38 -> 0.0087926 | E38: =$E$5-2*$E$7*C38 -> 0.0804148 | F38: =PI()*($E$4^2-D38^2) -> 0.0014378664 | G38: =IF(F38=0,0,2*PI()*D38*E38) -> 0.0044425587 | H38: =F38*2+G38 -> 0.0073182914 | I38: =H38-$H$1019 -> -0.00072989081
B39: 21 | C39: =IF(C38+$E$9<$E$8,C38+$E$9,0) -> 0.025051664 | D39: =$E$6+$E$7*C39 -> 0.00880723 | E39: =$E$5-2*$E$7*C39 -> 0.08038554 | F39: =PI()*($E$4^2-D39^2) -> 0.0014370575 | G39: =IF(F39=0,0,2*PI()*D39*E39) -> 0.0044483315 | H39: =F39*2+G39 -> 0.0073224464 | I39: =H39-$H$1019 -> -0.00072573585
B40: 22 | C40: =IF(C39+$E$9<$E$8,C39+$E$9,0) -> 0.026244601 | D40: =$E$6+$E$7*C40 -> 0.00882186 | E40: =$E$5-2*$E$7*C40 -> 0.08035628 | F40: =PI()*($E$4^2-D40^2) -> 0.0014362472 | G40: =IF(F40=0,0,2*PI()*D40*E40) -> 0.0044540989 | H40: =F40*2+G40 -> 0.0073265933 | I40: =H40-$H$1019 -> -0.00072158895
B41: 23 | C41: =IF(C40+$E$9<$E$8,C40+$E$9,0) -> 0.027437537 | D41: =$E$6+$E$7*C41 -> 0.00883649 | E41: =$E$5-2*$E$7*C41 -> 0.08032702 | F41: =PI()*($E$4^2-D41^2) -> 0.0014354356 | G41: =IF(F41=0,0,2*PI()*D41*E41) -> 0.0044598609 | H41: =F41*2+G41 -> 0.0073307321 | I41: =H41-$H$1019 -> -0.00071745012
B42: 24 | C42: =IF(C41+$E$9<$E$8,C41+$E$9,0) -> 0.028630473 | D42: =$E$6+$E$7*C42 -> 0.00885112 | E42: =$E$5-2*$E$7*C42 -> 0.08029776 | F42: =PI()*($E$4^2-D42^2) -> 0.0014346227 | G42: =IF(F42=0,0,2*PI()*D42*E42) -> 0.0044656176 | H42: =F42*2+G42 -> 0.0073348629 | I42: =H42-$H$1019 -> -0.00071331936
B43: 25 | C43: =IF(C42+$E$9<$E$8,C42+$E$9,0) -> 0.02982341 | D43: =$E$6+$E$7*C43 -> 0.00886575 | E43: =$E$5-2*$E$7*C43 -> 0.0802685 | F43: =PI()*($E$4^2-D43^2) -> 0.0014338084 | G43: =IF(F43=0,0,2*PI()*D43*E43) -> 0.0044713688 | H43: =F43*2+G43 -> 0.0073389856 | I43: =H43-$H$1019 -> -0.00070919667
B44: 26 | C44: =IF(C43+$E$9<$E$8,C43+$E$9,0) -> 0.031016346 | D44: =$E$6+$E$7*C44 -> 0.00888038 | E44: =$E$5-2*$E$7*C44 -> 0.08023924 | F44: =PI()*($E$4^2-D44^2) -> 0.0014329927 | G44: =IF(F44=0,0,2*PI()*D44*E44) -> 0.0044771147 | H44: =F44*2+G44 -> 0.0073431002 | I44: =H44-$H$1019 -> -0.00070508205
...

Sheet Comportamiento en el Tiempo
C1: Comportamiento en el Tiempo
B5: Grupo | C5: Constantes | D5: Símbolo | E5: Valor | F5: Unidades
B6: Constante | C6: Presión Atmosferica | D6: Patm | E6: =Diseño!E9 -> 101325 | F6: Pa
B7: Combustible | C7: Const de Tasa de Quemado | D7: a | E7: =Diseño!E41 -> 0.0665
C8: Exponente de Presión | D8: n | E8: =Diseño!E42 -> 0.319
C9: Densidad del Combustible | D9: ρP | E9: =Diseño!E44 -> 1776.25 | F9: kg/m3
B10: Grano | C10: Radio Externo del Grano | D10: Re_G | E10: =Diseño!E31 -> 0.02313 | F10: m
C11: Longitud del Grano | D11: Lg | E11: =Diseño!E32 -> 0.081 | F11: m
C12: Radio Interno Inicial | D12: ri | E12: =Diseño!E30 -> 0.0085 | F12: m
C13: Numero de Granos | D13: ng | E13: =Diseño!E29 -> 3
B14: Tobera | C14: Area de Garganta | D14: At | E14: =Diseño!E87 -> 0.00014361514 | F14: m2
C15: Area de Escape | D15: A2 | E15: =Diseño!E88 -> 0.0010138329 | F15: m2
C16: Eficiencia de la Tobera | D16: ηnozzle | E16: =Diseño!E100 -> 0.85
B17: Propiedades de Motor | C17: Numero Mach de Escape | D17: M2 | E17: =Diseño!E64 -> 2.6990377
C18: Tiempo de Quemado | D18: TQ | E18: =Diseño!E70 -> 1.1929364 | F18: s
C19: Velocidad Caracteristica | D19: c* | E19: =Diseño!E65 -> 941.32375 | F19: m/s
C20: Volumen Total | D20: Vtotal | E20: =PI()*Diseño!E15^2*Diseño!E39 -> 0.00045181586 | F20: m3
B21: Propiedades Termodinámicas | C21: Temperatura | D21: T1 | E21: =Diseño!E26 -> 1720 | F21: K
C22: Razón de Calores Especificos | D22: γ | E22: =Diseño!E46 -> 1.044
C23: Constante de los gases | D23: R | E23: =Diseño!E47 -> 195.71 | F23: J/kg*K | J23: 14.695949
C24: Masa de V Total | D24: mVT | E24: =($E$6*$E$20)/($E$23*$E$21) -> 0.00013599928 | F24: kg | I24: Presion Promedio | J24: =AVERAGEIF(E32:E1149,E32:E1149>$J$23,E32:E1149) -> #DIV/0!
B25: Performance | C25: Impulso Total | D25: IT | E25: =SUM(AC32:AC3510) -> 789.57128 | F25: N-s
C26: Impulso Especifico | D26: Isp | E26: =E25/(Diseño!E68*9.81) -> 128.26808 | F26: s | R26: "3-24"
AB27: =AB28/9.81 -> 70.044593
AB28: =MAX(AB32:AB1149) -> 687.13746
B29: Tiempo | C29: Delta t | D29: Presion | E29: Presion | F29: Presión Manométrica | G29: Tasa de Quemado | H29: Radio Instantaneo | I29: Longitud Instantanea Grano | J29: Área Transversal Grano | K29: Área Longitudinal Grano | L29: Área de Quemado Grano | M29: Área de Quemado TOTAL | N29: Volumen Combustible | O29: Masa Combustible | P29: Masa Producida | Q29: Flujo Másico Producido | R29: Flujo Másico de escape | S29: Diferencia de Flujos | T29: Delta m Escape | U29: Masa Interna | V29: Volumen Libre | W29: Razón de Areas | X29: Presion de Salida Virtual | Y29: Presión de Salida Real | Z29: Coeficiente de Fuerza | AA29: Cf Ajustado | AB29: Fuerza | AC29: Impulso Total
B30: t | C30: ∆t | D30: PC-abs | E30: PC | F30: PC-abs | G30: br | H30: Rinst | I30: Linst | J30: Atrans | K30: Along | L30: Ab | M30: Ab-T | N30: VT | O30: MT | P30: MG | Q30: m'prod | R30: M'escp | T30: ∆m | U30: Mi | V30: VL | W30: Kn | X30: Pe | Y30: P2 | Z30: CF | AA30: CF-Adj | AB30: F | AC30: IT
B31: s | C31: s | D31: Pa | E31: psi | F31: Pa | G31: m/s | H31: m | I31: m | J31: m2 | K31: m2 | L31: m2 | M31: m2 | N31: m3 | O31: kg | P31: kg | Q31: kg/s | R31: kg/s | S31: kg/s | T31: kg | U31: kg | V31: m3 | W31: - | X31: Pa | Y31: Pa | Z31: - | AA31: - | AB31: N | AC31: N*s
A32: 0 | B32: 0 | C32: =C33 -> 0.00039764546 | D32: =$E$6 -> 101325 | E32: =D32/6894.757 -> 14.695949 | F32: =D32-$E$6 -> 0 | G32: =($E$7*((D32*0.000145038)^$E$8))*0.0254 -> 0.0039809952 | H32: =$E$12 -> 0.0085 | I32: =$E$11 -> 0.081 | J32: =IF(H32>0,PI()*($E$10^2-H32^2),0) -> 0.0014537623 | K32: =IF(J32=0,0,2*PI()*H32*I32) -> 0.0043259731 | L32: =J32*2+K32 -> 0.0072334976 | M32: =IF(L32>0,L32*$E$13,0) -> 0.021700493 | N32: =$E$13*PI()*($E$10^2-H32^2)*I32 -> 0.00035326423 | O32: =$E$9*N32 -> 0.62748559 | P32: 0 | Q32: 0 | R32: 0 | S32: =Q32-R32 -> 0 | T32: 0 | U32: =((D32*V32)/($E$23*E21)) -> 2.9664631e-05 | V32: =$E$20-N32 -> 9.8551628e-05 | W32: =M32/$E$14 -> 151.1017 | X32: =D32/(1+(($E$22-1)/2)*$E$17^2)^($E$22/($E$22-1)) -> 2978.1341 | Y32: =IF(D32/(1+(($E$22-1)/2)*$E$17^2)^($E$22/($E$22-1))<$E$6,$E$6,D32/(1+(($E$22-1)/2)*$E$17^2)^($E$22/($E$22-1))) -> 101325 | Z32: =(((2*$E$22^2)/($E$22-1))*((2/($E$22+1))^(($E$22+1)/($E$22-1)))*((1-(X32/D32)^(($E$22-1)/$E$22))))^(0.5)+(((X32-$E$6)/(D32))*($E$15/$E$14)) -> -5.2738658 | AA32: =Z32*$E$16 -> -4.482786 | AB32: =IF(AA32*D32*$E$14>0,AA32*D32*$E$14,0) -> 0 | AC32: 0
A33: 1 | B33: =B32+$E$18/3000 -> 0.00039764546 | C33: =B33-B32 -> 0.00039764546 | D33: =$E$23*$E$21*U32/V32 -> 101325 | E33: =D33/6894.757 -> 14.695949 | F33: =D33-$E$6 -> 0 | G33: =($E$7*((D33*0.000145038)^$E$8))*0.0254 -> 0.0039809952 | H33: =IF(H32>0,IF((H32+G32*C33)<$E$10,H32+G32*C33,0),0) -> 0.008501583 | I33: =IF(H33>0,I32-G32*C33*2,0) -> 0.080996834 | J33: =IF(H33>0,PI()*($E$10^2-H33^2),0) -> 0.0014536777 | K33: =IF(J33=0,0,2*PI()*H33*I33) -> 0.0043266096 | L33: =J33*2+K33 -> 0.007233965 | M33: =IF(L33>0,L33*$E$13,0) -> 0.021701895 | N33: =$E$13*PI()*($E$10^2-H33^2)*I33 -> 0.00035322988 | O33: =$E$9*N33 -> 0.62742457 | P33: =(O32-O33) -> 6.1020451e-05 | Q33: =P33/C33 -> 0.15345441 | R33: =IF(D33>$E$6,$E$14*D33*$E$22*(SQRT((2/($E$22+1))^(($E$22+1)/($E$22-1))))/($E$22*$E$23*$E$21)^0.5,0) -> 0 | S33: =Q33-R33 -> 0.15345441 | T33: =R33*C33 -> 0 | U33: =IF(P33+U32-T33>0,P33+U32-T33,0) -> 9.0685082e-05 | V33: =$E$20-N33 -> 9.8585982e-05 | W33: =M33/$E$14 -> 151.11147 | X33: =D33/(1+(($E$22-1)/2)*$E$17^2)^($E$22/($E$22-1)) -> 2978.1341 | Y33: =IF(D33/(1+(($E$22-1)/2)*$E$17^2)^($E$22/($E$22-1))<$E$6,$E$6,D33/(1+(($E$22-1)/2)*$E$17^2)^($E$22/($E$22-1))) -> 101325 | Z33: =(((2*$E$22^2)/($E$22-1))*((2/($E$22+1))^(($E$22+1)/($E$22-1)))*((1-(X33/D33)^(($E$22-1)/$E$22))))^(0.5)+(((X33-$E$6)/(D33))*($E$15/$E$14)) -> -5.2738658 | AA33: =Z33*$E$16 -> -4.482786 | AB33: =IF(AA33*D33*$E$14>0,AA33*D33*$E$14,0) -> 0 | AC33: =((AB32+AB33)/(2))*C33 -> 0
A34: 2 | B34: =B33+$E$18/3000 -> 0.00079529093 | C34: =B34-B33 -> 0.00039764546 | D34: =$E$23*$E$21*U33/V33 -> 309643.63 | E34: =D34/6894.757 -> 44.910013 | F34: =D34-$E$6 -> 208318.63 | G34: =($E$7*((D34*0.000145038)^$E$8))*0.0254 -> 0.005685296 | H34: =IF(H33>0,IF((H33+G33*C34)<$E$10,H33+G33*C34,0),0) -> 0.008503166 | I34: =IF(H34>0,I33-G33*C34*2,0) -> 0.080993668 | J34: =IF(H34>0,PI()*($E$10^2-H34^2),0) -> 0.0014535931 | K34: =IF(J34=0,0,2*PI()*H34*I34) -> 0.0043272461 | L34: =J34*2+K34 -> 0.0072344324 | M34: =IF(L34>0,L34*$E$13,0) -> 0.021703297 | N34: =$E$13*PI()*($E$10^2-H34^2)*I34 -> 0.00035319552 | O34: =$E$9*N34 -> 0.62736354 | P34: =(O33-O34) -> 6.1024393e-05 | Q34: =P34/C34 -> 0.15346433 | R34: =IF(D34>$E$6,$E$14*D34*$E$22*(SQRT((2/($E$22+1))^(($E$22+1)/($E$22-1))))/($E$22*$E$23*$E$21)^0.5,0) -> 0.047241466 | S34: =Q34-R34 -> 0.10622286 | T34: =R34*C34 -> 1.8785355e-05 | U34: =IF(P34+U33-T34>0,P34+U33-T34,0) -> 0.00013292412 | V34: =$E$20-N34 -> 9.8620338e-05 | W34: =M34/$E$14 -> 151.12123 | X34: =D34/(1+(($E$22-1)/2)*$E$17^2)^($E$22/($E$22-1)) -> 9101.0142 | Y34: =IF(D34/(1+(($E$22-1)/2)*$E$17^2)^($E$22/($E$22-1))<$E$6,$E$6,D34/(1+(($E$22-1)/2)*$E$17^2)^($E$22/($E$22-1))) -> 101325 | Z34: =(((2*$E$22^2)/($E$22-1))*((2/($E$22+1))^(($E$22+1)/($E$22-1)))*((1-(X34/D34)^(($E$22-1)/$E$22))))^(0.5)+(((X34-$E$6)/(D34))*($E$15/$E$14)) -> -0.5245386 | AA34: =Z34*$E$16 -> -0.44585781 | AB34: =IF(AA34*D34*$E$14>0,AA34*D34*$E$14,0) -> 0 | AC34: =((AB33+AB34)/(2))*C34 -> 0
A35: 3 | B35: =B34+$E$18/3000 -> 0.0011929364 | C35: =B35-B34 -> 0.00039764546 | D35: =$E$23*$E$21*U34/V34 -> 453710.44 | E35: =D35/6894.757 -> 65.805139 | F35: =D35-$E$6 -> 352385.44 | G35: =($E$7*((D35*0.000145038)^$E$8))*0.0254 -> 0.0064221506 | H35: =IF(H34>0,IF((H34+G34*C35)<$E$10,H34+G34*C35,0),0) -> 0.0085054268 | I35: =IF(H35>0,I34-G34*C35*2,0) -> 0.080989146 | J35: =IF(H35>0,PI()*($E$10^2-H35^2),0) -> 0.0014534723 | K35: =IF(J35=0,0,2*PI()*H35*I35) -> 0.004328155 | L35: =J35*2+K35 -> 0.0072350996 | M35: =IF(L35>0,L35*$E$13,0) -> 0.021705299 | N35: =$E$13*PI()*($E$10^2-H35^2)*I35 -> 0.00035314645 | O35: =$E$9*N35 -> 0.62727639 | P35: =(O34-O35) -> 8.7156333e-05 | Q35: =P35/C35 -> 0.21918101 | R35: =IF(D35>$E$6,$E$14*D35*$E$22*(SQRT((2/($E$22+1))^(($E$22+1)/($E$22-1))))/($E$22*$E$23*$E$21)^0.5,0) -> 0.069221338 | S35: =Q35-R35 -> 0.14995967 | T35: =R35*C35 -> 2.7525551e-05 | U35: =IF(P35+U34-T35>0,P35+U34-T35,0) -> 0.0001925549 | V35: =$E$20-N35 -> 9.8669405e-05 | W35: =M35/$E$14 -> 151.13517 | X35: =D35/(1+(($E$22-1)/2)*$E$17^2)^($E$22/($E$22-1)) -> 13335.411 | Y35: =IF(D35/(1+(($E$22-1)/2)*$E$17^2)^($E$22/($E$22-1))<$E$6,$E$6,D35/(1+(($E$22-1)/2)*$E$17^2)^($E$22/($E$22-1))) -> 101325 | Z35: =(((2*$E$22^2)/($E$22-1))*((2/($E$22+1))^(($E$22+1)/($E$22-1)))*((1-(X35/D35)^(($E$22-1)/$E$22))))^(0.5)+(((X35-$E$6)/(D35))*($E$15/$E$14)) -> 0.20897097 | AA35: =Z35*$E$16 -> 0.17762532 | AB35: =IF(AA35*D35*$E$14>0,AA35*D35*$E$14,0) -> 11.574011 | AC35: =((AB34+AB35)/(2))*C35 -> 0.0023011764
A36: 4 | B36: =B35+$E$18/3000 -> 0.0015905819 | C36: =B36-B35 -> 0.00039764546 | D36: =$E$23*$E$21*U35/V35 -> 656921.59 | E36: =D36/6894.757 -> 95.278425 | F36: =D36-$E$6 -> 555596.59 | G36: =($E$7*((D36*0.000145038)^$E$8))*0.0254 -> 0.0072269471 | H36: =IF(H35>0,IF((H35+G35*C36)<$E$10,H35+G35*C36,0),0) -> 0.0085079805 | I36: =IF(H36>0,I35-G35*C36*2,0) -> 0.080984039 | J36: =IF(H36>0,PI()*($E$10^2-H36^2),0) -> 0.0014533358 | K36: =IF(J36=0,0,2*PI()*H36*I36) -> 0.0043291814 | L36: =J36*2+K36 -> 0.0072358531 | M36: =IF(L36>0,L36*$E$13,0) -> 0.021707559 | N36: =$E$13*PI()*($E$10^2-H36^2)*I36 -> 0.00035309102 | O36: =$E$9*N36 -> 0.62717792 | P36: =(O35-O36) -> 9.8462078e-05 | Q36: =P36/C36 -> 0.24761273 | R36: =IF(D36>$E$6,$E$14*D36*$E$22*(SQRT((2/($E$22+1))^(($E$22+1)/($E$22-1))))/($E$22*$E$23*$E$21)^0.5,0) -> 0.1002247 | S36: =Q36-R36 -> 0.14738803 | T36: =R36*C36 -> 3.9853896e-05 | U36: =IF(P36+U35-T36>0,P36+U35-T36,0) -> 0.00025116308 | V36: =$E$20-N36 -> 9.8724838e-05 | W36: =M36/$E$14 -> 151.15091 | X36: =D36/(1+(($E$22-1)/2)*$E$17^2)^($E$22/($E$22-1)) -> 19308.173 | Y36: =IF(D36/(1+(($E$22-1)/2)*$E$17^2)^($E$22/($E$22-1))<$E$6,$E$6,D36/(1+(($E$22-1)/2)*$E$17^2)^($E$22/($E$22-1))) -> 101325 | Z36: =(((2*$E$22^2)/($E$22-1))*((2/($E$22+1))^(($E$22+1)/($E$22-1)))*((1-(X36/D36)^(($E$22-1)/$E$22))))^(0.5)+(((X36-$E$6)/(D36))*($E$15/$E$14)) -> 0.69665436 | AA36: =Z36*$E$16 -> 0.5921562 | AB36: =IF(AA36*D36*$E$14>0,AA36*D36*$E$14,0) -> 55.866318 | AC36: =((AB35+AB36)/(2))*C36 -> 0.01340867
A37: 5 | B37: =B36+$E$18/3000 -> 0.0019882273 | C37: =B37-B36 -> 0.00039764546 | D37: =$E$23*$E$21*U36/V36 -> 856388.53 | E37: =D37/6894.757 -> 124.20866 | F37: =D37-$E$6 -> 755063.53 | G37: =($E$7*((D37*0.000145038)^$E$8))*0.0254 -> 0.007864843 | H37: =IF(H36>0,IF((H36+G36*C37)<$E$10,H36+G36*C37,0),0) -> 0.0085108543 | I37: =IF(H37>0,I36-G36*C37*2,0) -> 0.080978291 | J37: =IF(H37>0,PI()*($E$10^2-H37^2),0) -> 0.0014531822 | K37: =IF(J37=0,0,2*PI()*H37*I37) -> 0.0043303364 | L37: =J37*2+K37 -> 0.0072367008 | M37: =IF(L37>0,L37*$E$13,0) -> 0.021710102 | N37: =$E$13*PI()*($E$10^2-H37^2)*I37 -> 0.00035302863 | O37: =$E$9*N37 -> 0.62706711 | P37: =(O36-O37) -> 0.00011081318 | Q37: =P37/C37 -> 0.27867333 | R37: =IF(D37>$E$6,$E$14*D37*$E$22*(SQRT((2/($E$22+1))^(($E$22+1)/($E$22-1))))/($E$22*$E$23*$E$21)^0.5,0) -> 0.13065681 | S37: =Q37-R37 -> 0.14801651 | T37: =R37*C37 -> 5.1955089e-05 | U37: =IF(P37+U36-T37>0,P37+U36-T37,0) -> 0.00031002118 | V37: =$E$20-N37 -> 9.8787224e-05 | W37: =M37/$E$14 -> 151.16862 | X37: =D37/(1+(($E$22-1)/2)*$E$17^2)^($E$22/($E$22-1)) -> 25170.885 | Y37: =IF(D37/(1+(($E$22-1)/2)*$E$17^2)^($E$22/($E$22-1))<$E$6,$E$6,D37/(1+(($E$22-1)/2)*$E$17^2)^($E$22/($E$22-1))) -> 101325 | Z37: =(((2*$E$22^2)/($E$22-1))*((2/($E$22+1))^(($E$22+1)/($E$22-1)))*((1-(X37/D37)^(($E$22-1)/$E$22))))^(0.5)+(((X37-$E$6)/(D37))*($E$15/$E$14)) -> 0.95026607 | AA37: =Z37*$E$16 -> 0.80772616 | AB37: =IF(AA37*D37*$E$14>0,AA37*D37*$E$14,0) -> 99.342532 | AC37: =((AB36+AB37)/(2))*C37 -> 0.030859048
A38: 6 | B38: =B37+$E$18/3000 -> 0.0023858728 | C38: =B38-B37 -> 0.00039764546 | D38: =$E$23*$E$21*U37/V37 -> 1056408.9 | E38: =D38/6894.757 -> 153.21916 | F38: =D38-$E$6 -> 955083.89 | G38: =($E$7*((D38*0.000145038)^$E$8))*0.0254 -> 0.0084095059 | H38: =IF(H37>0,IF((H37+G37*C38)<$E$10,H37+G37*C38,0),0) -> 0.0085139817 | I38: =IF(H38>0,I37-G37*C38*2,0) -> 0.080972037 | J38: =IF(H38>0,PI()*($E$10^2-H38^2),0) -> 0.0014530149 | K38: =IF(J38=0,0,2*PI()*H38*I38) -> 0.004331593 | L38: =J38*2+K38 -> 0.0072376229 | M38: =IF(L38>0,L38*$E$13,0) -> 0.021712869 | N38: =$E$13*PI()*($E$10^2-H38^2)*I38 -> 0.00035296073 | O38: =$E$9*N38 -> 0.6269465 | P38: =(O37-O38) -> 0.000120609 | Q38: =P38/C38 -> 0.30330787 | R38: =IF(D38>$E$6,$E$14*D38*$E$22*(SQRT((2/($E$22+1))^(($E$22+1)/($E$22-1))))/($E$22*$E$23*$E$21)^0.5,0) -> 0.16117336 | S38: =Q38-R38 -> 0.14213451 | T38: =R38*C38 -> 6.4089856e-05 | U38: =IF(P38+U37-T38>0,P38+U37-T38,0) -> 0.00036654032 | V38: =$E$20-N38 -> 9.8855125e-05 | W38: =M38/$E$14 -> 151.18788 | X38: =D38/(1+(($E$22-1)/2)*$E$17^2)^($E$22/($E$22-1)) -> 31049.863 | Y38: =IF(D38/(1+(($E$22-1)/2)*$E$17^2)^($E$22/($E$22-1))<$E$6,$E$6,D38/(1+(($E$22-1)/2)*$E$17^2)^($E$22/($E$22-1))) -> 101325 | Z38: =(((2*$E$22^2)/($E$22-1))*((2/($E$22+1))^(($E$22+1)/($E$22-1)))*((1-(X38/D38)^(($E$22-1)/$E$22))))^(0.5)+(((X38-$E$6)/(D38))*($E$15/$E$14)) -> 1.1084106 | AA38: =Z38*$E$16 -> 0.94214897 | AB38: =IF(AA38*D38*$E$14>0,AA38*D38*$E$14,0) -> 142.93937 | AC38: =((AB37+AB38)/(2))*C38 -> 0.048171149
A39: 7 | B39: =B38+$E$18/3000 -> 0.0027835183 | C39: =B39-B38 -> 0.00039764546 | D39: =$E$23*$E$21*U38/V38 -> 1248142.1 | E39: =D39/6894.757 -> 181.02772 | F39: =D39-$E$6 -> 1146817.1 | G39: =($E$7*((D39*0.000145038)^$E$8))*0.0254 -> 0.0088690333 | H39: =IF(H38>0,IF((H38+G38*C39)<$E$10,H38+G38*C39,0),0) -> 0.0085173257 | I39: =IF(H39>0,I38-G38*C39*2,0) -> 0.080965349 | J39: =IF(H39>0,PI()*($E$10^2-H39^2),0) -> 0.001452836 | K39: =IF(J39=0,0,2*PI()*H39*I39) -> 0.0043329364 | L39: =J39*2+K39 -> 0.0072386084 | M39: =IF(L39>0,L39*$E$13,0) -> 0.021715825 | N39: =$E$13*PI()*($E$10^2-H39^2)*I39 -> 0.00035288812 | O39: =$E$9*N39 -> 0.62681752 | P39: =(O38-O39) -> 0.00012897852 | Q39: =P39/C39 -> 0.32435556 | R39: =IF(D39>$E$6,$E$14*D39*$E$22*(SQRT((2/($E$22+1))^(($E$22+1)/($E$22-1))))/($E$22*$E$23*$E$21)^0.5,0) -> 0.19042556 | S39: =Q39-R39 -> 0.13392999 | T39: =R39*C39 -> 7.5721862e-05 | U39: =IF(P39+U38-T39>0,P39+U38-T39,0) -> 0.00041979698 | V39: =$E$20-N39 -> 9.8927738e-05 | W39: =M39/$E$14 -> 151.20846 | X39: =D39/(1+(($E$22-1)/2)*$E$17^2)^($E$22/($E$22-1)) -> 36685.267 | Y39: =IF(D39/(1+(($E$22-1)/2)*$E$17^2)^($E$22/($E$22-1))<$E$6,$E$6,D39/(1+(($E$22-1)/2)*$E$17^2)^($E$22/($E$22-1))) -> 101325 | Z39: =(((2*$E$22^2)/($E$22-1))*((2/($E$22+1))^(($E$22+1)/($E$22-1)))*((1-(X39/D39)^(($E$22-1)/$E$22))))^(0.5)+(((X39-$E$6)/(D39))*($E$15/$E$14)) -> 1.2124227 | AA39: =Z39*$E$16 -> 1.0305593 | AB39: =IF(AA39*D39*$E$14>0,AA39*D39*$E$14,0) -> 184.72992 | AC39: =((AB38+AB39)/(2))*C39 -> 0.065148104
A40: 8 | B40: =B39+$E$18/3000 -> 0.0031811637 | C40: =B40-B39 -> 0.00039764546 | D40: =$E$23*$E$21*U39/V39 -> 1428442.3 | E40: =D40/6894.757 -> 207.17805 | F40: =D40-$E$6 -> 1327117.3 | G40: =($E$7*((D40*0.000145038)^$E$8))*0.0254 -> 0.0092591103 | H40: =IF(H39>0,IF((H39+G39*C40)<$E$10,H39+G39*C40,0),0) -> 0.0085208524 | I40: =IF(H40>0,I39-G39*C40*2,0) -> 0.080958295 | J40: =IF(H40>0,PI()*($E$10^2-H40^2),0) -> 0.0014526472 | K40: =IF(J40=0,0,2*PI()*H40*I40) -> 0.0043343529 | L40: =J40*2+K40 -> 0.0072396473 | M40: =IF(L40>0,L40*$E$13,0) -> 0.021718942 | N40: =$E$13*PI()*($E$10^2-H40^2)*I40 -> 0.00035281153 | O40: =$E$9*N40 -> 0.62668148 | P40: =(O39-O40) -> 0.00013604542 | Q40: =P40/C40 -> 0.34212742 | R40: =IF(D40>$E$6,$E$14*D40*$E$22*(SQRT((2/($E$22+1))^(($E$22+1)/($E$22-1))))/($E$22*$E$23*$E$21)^0.5,0) -> 0.21793346 | S40: =Q40-R40 -> 0.12419396 | T40: =R40*C40 -> 8.6660252e-05 | U40: =IF(P40+U39-T40>0,P40+U39-T40,0) -> 0.00046918214 | V40: =$E$20-N40 -> 9.9004329e-05 | W40: =M40/$E$14 -> 151.23017 | X40: =D40/(1+(($E$22-1)/2)*$E$17^2)^($E$22/($E$22-1)) -> 41984.631 | Y40: =IF(D40/(1+(($E$22-1)/2)*$E$17^2)^($E$22/($E$22-1))<$E$6,$E$6,D40/(1+(($E$22-1)/2)*$E$17^2)^($E$22/($E$22-1))) -> 101325 | Z40: =(((2*$E$22^2)/($E$22-1))*((2/($E$22+1))^(($E$22+1)/($E$22-1)))*((1-(X40/D40)^(($E$22-1)/$E$22))))^(0.5)+(((X40-$E$6)/(D40))*($E$15/$E$14)) -> 1.2847583 | AA40: =Z40*$E$16 -> 1.0920446 | AB40: =IF(AA40*D40*$E$14>0,AA40*D40*$E$14,0) -> 224.02851 | AC40: =((AB39+AB40)/(2))*C40 -> 0.081270469
A41: 9 | B41: =B40+$E$18/3000 -> 0.0035788092 | C41: =B41-B40 -> 0.00039764546 | D41: =$E$23*$E$21*U40/V40 -> 1595250 | E41: =D41/6894.757 -> 231.37146 | F41: =D41-$E$6 -> 1493925 | G41: =($E$7*((D41*0.000145038)^$E$8))*0.0254 -> 0.0095911444 | H41: =IF(H40>0,IF((H40+G40*C41)<$E$10,H40+G40*C41,0),0) -> 0.0085245343 | I41: =IF(H41>0,I40-G40*C41*2,0) -> 0.080950931 | J41: =IF(H41>0,PI()*($E$10^2-H41^2),0) -> 0.0014524501 | K41: =IF(J41=0,0,2*PI()*H41*I41) -> 0.0043358313 | L41: =J41*2+K41 -> 0.0072407315 | M41: =IF(L41>0,L41*$E$13,0) -> 0.021722194 | N41: =$E$13*PI()*($E$10^2-H41^2)*I41 -> 0.00035273156 | O41: =$E$9*N41 -> 0.62653943 | P41: =(O40-O41) -> 0.00014204978 | Q41: =P41/C41 -> 0.35722721 | R41: =IF(D41>$E$6,$E$14*D41*$E$22*(SQRT((2/($E$22+1))^(($E$22+1)/($E$22-1))))/($E$22*$E$23*$E$21)^0.5,0) -> 0.24338285 | S41: =Q41-R41 -> 0.11384436 | T41: =R41*C41 -> 9.6780086e-05 | U41: =IF(P41+U40-T41>0,P41+U40-T41,0) -> 0.00051445184 | V41: =$E$20-N41 -> 9.9084301e-05 | W41: =M41/$E$14 -> 151.25281 | X41: =D41/(1+(($E$22-1)/2)*$E$17^2)^($E$22/($E$22-1)) -> 46887.427 | Y41: =IF(D41/(1+(($E$22-1)/2)*$E$17^2)^($E$22/($E$22-1))<$E$6,$E$6,D41/(1+(($E$22-1)/2)*$E$17^2)^($E$22/($E$22-1))) -> 101325 | Z41: =(((2*$E$22^2)/($E$22-1))*((2/($E$22+1))^(($E$22+1)/($E$22-1)))*((1-(X41/D41)^(($E$22-1)/$E$22))))^(0.5)+(((X41-$E$6)/(D41))*($E$15/$E$14)) -> 1.3371192 | AA41: =Z41*$E$16 -> 1.1365514 | AB41: =IF(AA41*D41*$E$14>0,AA41*D41*$E$14,0) -> 260.38625 | AC41: =((AB40+AB41)/(2))*C41 -> 0.096312667
A42: 10 | B42: =B41+$E$18/3000 -> 0.0039764546 | C42: =B42-B41 -> 0.00039764546 | D42: =$E$23*$E$21*U41/V41 -> 1747758.2 | E42: =D42/6894.757 -> 253.4909 | F42: =D42-$E$6 -> 1646433.2 | G42: =($E$7*((D42*0.000145038)^$E$8))*0.0254 -> 0.0098746021 | H42: =IF(H41>0,IF((H41+G41*C42)<$E$10,H41+G41*C42,0),0) -> 0.0085283482 | I42: =IF(H42>0,I41-G41*C42*2,0) -> 0.080943304 | J42: =IF(H42>0,PI()*($E$10^2-H42^2),0) -> 0.0014522457 | K42: =IF(J42=0,0,2*PI()*H42*I42) -> 0.0043373625 | L42: =J42*2+K42 -> 0.0072418539 | M42: =IF(L42>0,L42*$E$13,0) -> 0.021725562 | N42: =$E$13*PI()*($E$10^2-H42^2)*I42 -> 0.00035264871 | O42: =$E$9*N42 -> 0.62639226 | P42: =(O41-O42) -> 0.00014716615 | Q42: =P42/C42 -> 0.37009386 | R42: =IF(D42>$E$6,$E$14*D42*$E$22*(SQRT((2/($E$22+1))^(($E$22+1)/($E$22-1))))/($E$22*$E$23*$E$21)^0.5,0) -> 0.26665059 | S42: =Q42-R42 -> 0.10344327 | T42: =R42*C42 -> 0.0001060324 | U42: =IF(P42+U41-T42>0,P42+U41-T42,0) -> 0.00055558558 | V42: =$E$20-N42 -> 9.9167153e-05 | W42: =M42/$E$14 -> 151.27626 | X42: =D42/(1+(($E$22-1)/2)*$E$17^2)^($E$22/($E$22-1)) -> 51369.931 | Y42: =IF(D42/(1+(($E$22-1)/2)*$E$17^2)^($E$22/($E$22-1))<$E$6,$E$6,D42/(1+(($E$22-1)/2)*$E$17^2)^($E$22/($E$22-1))) -> 101325 | Z42: =(((2*$E$22^2)/($E$22-1))*((2/($E$22+1))^(($E$22+1)/($E$22-1)))*((1-(X42/D42)^(($E$22-1)/$E$22))))^(0.5)+(((X42-$E$6)/(D42))*($E$15/$E$14)) -> 1.3762453 | AA42: =Z42*$E$16 -> 1.1698085 | AB42: =IF(AA42*D42*$E$14>0,AA42*D42*$E$14,0) -> 293.62724 | AC42: =((AB41+AB42)/(2))*C42 -> 0.11015048
A43: 11 | B43: =B42+$E$18/3000 -> 0.0043741001 | C43: =B43-B42 -> 0.00039764546 | D43: =$E$23*$E$21*U42/V42 -> 1885925.7 | E43: =D43/6894.757 -> 273.53041 | F43: =D43-$E$6 -> 1784600.7 | G43: =($E$7*((D43*0.000145038)^$E$8))*0.0254 -> 0.010117202 | H43: =IF(H42>0,IF((H42+G42*C43)<$E$10,H42+G42*C43,0),0) -> 0.0085322747 | I43: =IF(H43>0,I42-G42*C43*2,0) -> 0.080935451 | J43: =IF(H43>0,PI()*($E$10^2-H43^2),0) -> 0.0014520353 | K43: =IF(J43=0,0,2*PI()*H43*I43) -> 0.0043389384 | L43: =J43*2+K43 -> 0.007243009 | M43: =IF(L43>0,L43*$E$13,0) -> 0.021729027 | N43: =$E$13*PI()*($E$10^2-H43^2)*I43 -> 0.00035256339 | O43: =$E$9*N43 -> 0.62624072 | P43: =(O42-O43) -> 0.00015153934 | Q43: =P43/C43 -> 0.38109157 | R43: =IF(D43>$E$6,$E$14*D43*$E$22*(SQRT((2/($E$22+1))^(($E$22+1)/($E$22-1))))/($E$22*$E$23*$E$21)^0.5,0) -> 0.28773044 | S43: =Q43-R43 -> 0.093361139 | T43: =R43*C43 -> 0.0001144147 | U43: =IF(P43+U42-T43>0,P43+U42-T43,0) -> 0.00059271022 | V43: =$E$20-N43 -> 9.9252467e-05 | W43: =M43/$E$14 -> 151.30039 | X43: =D43/(1+(($E$22-1)/2)*$E$17^2)^($E$22/($E$22-1)) -> 55430.938 | Y43: =IF(D43/(1+(($E$22-1)/2)*$E$17^2)^($E$22/($E$22-1))<$E$6,$E$6,D43/(1+(($E$22-1)/2)*$E$17^2)^($E$22/($E$22-1))) -> 101325 | Z43: =(((2*$E$22^2)/($E$22-1))*((2/($E$22+1))^(($E$22+1)/($E$22-1)))*((1-(X43/D43)^(($E$22-1)/$E$22))))^(0.5)+(((X43-$E$6)/(D43))*($E$15/$E$14)) -> 1.4062288 | AA43: =Z43*$E$16 -> 1.1952945 | AB43: =IF(AA43*D43*$E$14>0,AA43*D43*$E$14,0) -> 323.74252 | AC43: =((AB42+AB43)/(2))*C43 -> 0.12274714
...
